BEGIN:VCALENDAR
VERSION:2.0
PRODID:-//eventon.com NONSGML v1.0//EN
CALSCALE:GREGORIAN
METHOD:PUBLISH
BEGIN:VEVENT
UID:69e5e0db033ef
DTSTAMP:20260420T081627Z
DTSTART:20241206T210000Z
DTEND:20241206T225900Z
LOCATION:KL17 - Klub Ritterstraße 17
SUMMARY:Black Booty "SNOWFLOW"
DESCRIPTION:\nhttps://blackbooty.de/events/black-booty-snowflow/
URL:https://blackbooty.de/events/black-booty-snowflow/
END:VEVENT
END:VCALENDAR